BEGIN:VCALENDAR
VERSION:2.0
PRODID:-//Rosser&#039;s Ridge Maple Syrup - ECPv6.15.17.1//NONSGML v1.0//EN
CALSCALE:GREGORIAN
METHOD:PUBLISH
X-WR-CALNAME:Rosser&#039;s Ridge Maple Syrup
X-ORIGINAL-URL:https://rossersridge.com
X-WR-CALDESC:Events for Rosser&#039;s Ridge Maple Syrup
REFRESH-INTERVAL;VALUE=DURATION:PT1H
X-Robots-Tag:noindex
X-PUBLISHED-TTL:PT1H
BEGIN:VTIMEZONE
TZID:America/New_York
BEGIN:DAYLIGHT
TZOFFSETFROM:-0500
TZOFFSETTO:-0400
TZNAME:EDT
DTSTART:20230312T070000
END:DAYLIGHT
BEGIN:STANDARD
TZOFFSETFROM:-0400
TZOFFSETTO:-0500
TZNAME:EST
DTSTART:20231105T060000
END:STANDARD
BEGIN:DAYLIGHT
TZOFFSETFROM:-0500
TZOFFSETTO:-0400
TZNAME:EDT
DTSTART:20240310T070000
END:DAYLIGHT
BEGIN:STANDARD
TZOFFSETFROM:-0400
TZOFFSETTO:-0500
TZNAME:EST
DTSTART:20241103T060000
END:STANDARD
BEGIN:DAYLIGHT
TZOFFSETFROM:-0500
TZOFFSETTO:-0400
TZNAME:EDT
DTSTART:20250309T070000
END:DAYLIGHT
BEGIN:STANDARD
TZOFFSETFROM:-0400
TZOFFSETTO:-0500
TZNAME:EST
DTSTART:20251102T060000
END:STANDARD
END:VTIMEZONE
BEGIN:VEVENT
DTSTART;TZID=America/New_York:20240127T090000
DTEND;TZID=America/New_York:20240127T190000
DTSTAMP:20260425T204546
CREATED:20240109T021235Z
LAST-MODIFIED:20240109T021235Z
UID:2352-1706346000-1706382000@rossersridge.com
SUMMARY:​New York Sportsman’s Expo
DESCRIPTION:We’re Hittin’ the Road… \nGreat New York Sportsman’s Expo is the longest-tenured sportsman’s consumer expo in the Northeast. Visit with national manufacturers\, outfitters\, guide services\, and charters from around the world. Enjoy the return of the dockdogs\, see the largest indoor trout pond in the Northeast and meet the crew from Rush Outdoors. While your there\, stop by the Rosser’s Ridge Maple booth to try some free samples\, grab a snack while you browse all the great attractions\, or stock up with our treats for your next adventure!
URL:https://rossersridge.com/event/new-york-sportsmans-expo-2
LOCATION:NY State Fairgrounds Expo Center\, 581 State Fair Blvd\, \, NY 13209\, Syracuse\, New York\, 13209
ATTACH;FMTTYPE=image/png:https://rossersridge.com/wp-content/uploads/2024/01/ny-expo.png
END:VEVENT
END:VCALENDAR