BEGIN:VCALENDAR
VERSION:2.0
PRODID:-//Rosser&#039;s Ridge Maple Syrup - ECPv6.15.17.1//NONSGML v1.0//EN
CALSCALE:GREGORIAN
METHOD:PUBLISH
X-WR-CALNAME:Rosser&#039;s Ridge Maple Syrup
X-ORIGINAL-URL:https://rossersridge.com
X-WR-CALDESC:Events for Rosser&#039;s Ridge Maple Syrup
REFRESH-INTERVAL;VALUE=DURATION:PT1H
X-Robots-Tag:noindex
X-PUBLISHED-TTL:PT1H
BEGIN:VTIMEZONE
TZID:UTC
BEGIN:STANDARD
TZOFFSETFROM:+0000
TZOFFSETTO:+0000
TZNAME:UTC
DTSTART:20220101T000000
END:STANDARD
END:VTIMEZONE
BEGIN:VEVENT
DTSTART;TZID=UTC:20230221T090000
DTEND;TZID=UTC:20230223T170000
DTSTAMP:20260425T194536
CREATED:20230201T043045Z
LAST-MODIFIED:20230201T053413Z
UID:1984-1676970000-1677171600@rossersridge.com
SUMMARY:Upstate New York Gift Expo
DESCRIPTION:Turning Stone Resort Casino – Oneida/Mohawk Room\nupstatenygiftexpo.com\nThe Upstate NY Gift Expo is a wholesale gift show offering order-writing and cash-and-carry options from a diverse group of exhibitors from the following markets and more: Gift/Souvenirs  – Decorative Items – Regional Books – Clothing – Holiday Items – Resort Merchandise – Personal Accessories – Jewelry – Handmade Items – Specialty Foods. \nFree buyer registration; pre-register at upststenygiftexpo.com or register at the door \nStop by Rosser’s Ridge booth to try any of our free samples and check our new products we’re adding to our lineup this year! Register for a chance to win a $100 Rosser’s Ridge Maple & More gift certificate!
URL:https://rossersridge.com/event/upstate-new-york-gift-expo
LOCATION:Turning Stone Resort Casino\, 5218 Patrick Road\, Verona\, NY\, 13478\, United States
END:VEVENT
END:VCALENDAR