BEGIN:VCALENDAR
VERSION:2.0
PRODID:-//Rosser&#039;s Ridge Maple Syrup - ECPv6.15.17.1//NONSGML v1.0//EN
CALSCALE:GREGORIAN
METHOD:PUBLISH
X-WR-CALNAME:Rosser&#039;s Ridge Maple Syrup
X-ORIGINAL-URL:https://rossersridge.com
X-WR-CALDESC:Events for Rosser&#039;s Ridge Maple Syrup
REFRESH-INTERVAL;VALUE=DURATION:PT1H
X-Robots-Tag:noindex
X-PUBLISHED-TTL:PT1H
BEGIN:VTIMEZONE
TZID:America/New_York
BEGIN:DAYLIGHT
TZOFFSETFROM:-0500
TZOFFSETTO:-0400
TZNAME:EDT
DTSTART:20240310T070000
END:DAYLIGHT
BEGIN:STANDARD
TZOFFSETFROM:-0400
TZOFFSETTO:-0500
TZNAME:EST
DTSTART:20241103T060000
END:STANDARD
BEGIN:DAYLIGHT
TZOFFSETFROM:-0500
TZOFFSETTO:-0400
TZNAME:EDT
DTSTART:20250309T070000
END:DAYLIGHT
BEGIN:STANDARD
TZOFFSETFROM:-0400
TZOFFSETTO:-0500
TZNAME:EST
DTSTART:20251102T060000
END:STANDARD
BEGIN:DAYLIGHT
TZOFFSETFROM:-0500
TZOFFSETTO:-0400
TZNAME:EDT
DTSTART:20260308T070000
END:DAYLIGHT
BEGIN:STANDARD
TZOFFSETFROM:-0400
TZOFFSETTO:-0500
TZNAME:EST
DTSTART:20261101T060000
END:STANDARD
END:VTIMEZONE
BEGIN:VEVENT
DTSTART;TZID=America/New_York:20250403T120000
DTEND;TZID=America/New_York:20250403T200000
DTSTAMP:20260425T194245
CREATED:20250214T223052Z
LAST-MODIFIED:20250214T223150Z
UID:2771-1743681600-1743710400@rossersridge.com
SUMMARY:Boating 716 SHOW & SALE!
DESCRIPTION:Boating 716 SHOW & SALE!\n\nThe Largest Boat Show of the Year at the Fairgrounds in Hamburg\, NY.\n\n \nWhile your there\, stop by the Rosser’s Ridge Maple booth to try some free samples\, grab a snack while you browse all the great attractions\, or stock up with our locally made treats from REAL New York Maple Syrup!
URL:https://rossersridge.com/event/boating-716-show-sale
LOCATION:Hamburg Fairgrounds\, 5600 McKinley Pkwy\, Hamburg\, NY\, 14075\, United States
ATTACH;FMTTYPE=image/jpeg:https://rossersridge.com/wp-content/uploads/2025/02/Lifestyle_SmBoatBigFamily_1600.jpg
END:VEVENT
BEGIN:VEVENT
DTSTART;TZID=America/New_York:20250404T120000
DTEND;TZID=America/New_York:20250404T200000
DTSTAMP:20260425T194245
CREATED:20250214T223144Z
LAST-MODIFIED:20250214T223144Z
UID:2768-1743768000-1743796800@rossersridge.com
SUMMARY:Boating 716 SHOW & SALE!
DESCRIPTION:Boating 716 SHOW & SALE!\n\nThe Largest Boat Show of the Year at the Fairgrounds in Hamburg\, NY.\n\n \nWhile your there\, stop by the Rosser’s Ridge Maple booth to try some free samples\, grab a snack while you browse all the great attractions\, or stock up with our locally made treats from REAL New York Maple Syrup!
URL:https://rossersridge.com/event/boating-716-show-sale-2
LOCATION:Hamburg Fairgrounds\, 5600 McKinley Pkwy\, Hamburg\, NY\, 14075\, United States
ATTACH;FMTTYPE=image/jpeg:https://rossersridge.com/wp-content/uploads/2025/02/Lifestyle_SmBoatBigFamily_1600.jpg
END:VEVENT
BEGIN:VEVENT
DTSTART;TZID=America/New_York:20250405T100000
DTEND;TZID=America/New_York:20250405T200000
DTSTAMP:20260425T194245
CREATED:20250214T223231Z
LAST-MODIFIED:20250214T223231Z
UID:2769-1743847200-1743883200@rossersridge.com
SUMMARY:Boating 716 SHOW & SALE!
DESCRIPTION:Boating 716 SHOW & SALE!\n\nThe Largest Boat Show of the Year at the Fairgrounds in Hamburg\, NY.\n\n \nWhile your there\, stop by the Rosser’s Ridge Maple booth to try some free samples\, grab a snack while you browse all the great attractions\, or stock up with our locally made treats from REAL New York Maple Syrup!
URL:https://rossersridge.com/event/boating-716-show-sale-3
LOCATION:Hamburg Fairgrounds\, 5600 McKinley Pkwy\, Hamburg\, NY\, 14075\, United States
ATTACH;FMTTYPE=image/jpeg:https://rossersridge.com/wp-content/uploads/2025/02/Lifestyle_SmBoatBigFamily_1600.jpg
END:VEVENT
BEGIN:VEVENT
DTSTART;TZID=America/New_York:20250406T100000
DTEND;TZID=America/New_York:20250406T160000
DTSTAMP:20260425T194245
CREATED:20250214T223311Z
LAST-MODIFIED:20250214T223410Z
UID:2770-1743933600-1743955200@rossersridge.com
SUMMARY:Boating 716 SHOW & SALE!
DESCRIPTION:Boating 716 SHOW & SALE!\n\nThe Largest Boat Show of the Year at the Fairgrounds in Hamburg\, NY.\n\n \nWhile your there\, stop by the Rosser’s Ridge Maple booth to try some free samples\, grab a snack while you browse all the great attractions\, or stock up with our locally made treats from REAL New York Maple Syrup!
URL:https://rossersridge.com/event/boating-716-show-sale-4
LOCATION:Hamburg Fairgrounds\, 5600 McKinley Pkwy\, Hamburg\, NY\, 14075\, United States
ATTACH;FMTTYPE=image/jpeg:https://rossersridge.com/wp-content/uploads/2025/02/Lifestyle_SmBoatBigFamily_1600.jpg
END:VEVENT
END:VCALENDAR