BEGIN:VCALENDAR
VERSION:2.0
PRODID:-//Rosser&#039;s Ridge Maple Syrup - ECPv6.15.17.1//NONSGML v1.0//EN
CALSCALE:GREGORIAN
METHOD:PUBLISH
X-WR-CALNAME:Rosser&#039;s Ridge Maple Syrup
X-ORIGINAL-URL:https://rossersridge.com
X-WR-CALDESC:Events for Rosser&#039;s Ridge Maple Syrup
REFRESH-INTERVAL;VALUE=DURATION:PT1H
X-Robots-Tag:noindex
X-PUBLISHED-TTL:PT1H
BEGIN:VTIMEZONE
TZID:America/New_York
BEGIN:DAYLIGHT
TZOFFSETFROM:-0500
TZOFFSETTO:-0400
TZNAME:EDT
DTSTART:20240310T070000
END:DAYLIGHT
BEGIN:STANDARD
TZOFFSETFROM:-0400
TZOFFSETTO:-0500
TZNAME:EST
DTSTART:20241103T060000
END:STANDARD
BEGIN:DAYLIGHT
TZOFFSETFROM:-0500
TZOFFSETTO:-0400
TZNAME:EDT
DTSTART:20250309T070000
END:DAYLIGHT
BEGIN:STANDARD
TZOFFSETFROM:-0400
TZOFFSETTO:-0500
TZNAME:EST
DTSTART:20251102T060000
END:STANDARD
BEGIN:DAYLIGHT
TZOFFSETFROM:-0500
TZOFFSETTO:-0400
TZNAME:EDT
DTSTART:20260308T070000
END:DAYLIGHT
BEGIN:STANDARD
TZOFFSETFROM:-0400
TZOFFSETTO:-0500
TZNAME:EST
DTSTART:20261101T060000
END:STANDARD
END:VTIMEZONE
BEGIN:VEVENT
DTSTART;TZID=America/New_York:20250220T140000
DTEND;TZID=America/New_York:20250220T200000
DTSTAMP:20260425T130529
CREATED:20250214T190851Z
LAST-MODIFIED:20250214T205401Z
UID:2664-1740060000-1740081600@rossersridge.com
SUMMARY:WNY Home & Outdoor Living Show
DESCRIPTION:The WNY Home & Outdoor Living Show will bring you 4 days full of home improvement inspiration and time to talk to the professionals! Whether you’re ready to get your hands dirty with a DIY project\, or looking to hire a professional to handle the job while you sit back and relax\, the WNY Home Show is your one-stop shop! While your there\, stop by the Rosser’s Ridge Maple booth to try some free samples\, grab a snack while you browse all the great attractions\, or stock up with your favorite local NY maple products.
URL:https://rossersridge.com/event/wny-home-outdoor-living-show
LOCATION:Hamburg Fairgrounds\, 5600 McKinley Pkwy\, Hamburg\, NY\, 14075\, United States
ATTACH;FMTTYPE=image/png:https://rossersridge.com/wp-content/uploads/2025/02/WNY-HOL-Logo-Sticker.png
END:VEVENT
BEGIN:VEVENT
DTSTART;TZID=America/New_York:20250221T120000
DTEND;TZID=America/New_York:20250221T200000
DTSTAMP:20260425T130529
CREATED:20250214T191737Z
LAST-MODIFIED:20250214T205430Z
UID:2670-1740139200-1740168000@rossersridge.com
SUMMARY:WNY Home & Outdoor Living Show
DESCRIPTION:The WNY Home & Outdoor Living Show will bring you 4 days full of home improvement inspiration and time to talk to the professionals! Whether you’re ready to get your hands dirty with a DIY project\, or looking to hire a professional to handle the job while you sit back and relax\, the WNY Home Show is your one-stop shop! While your there\, stop by the Rosser’s Ridge Maple booth to try some free samples\, grab a snack while you browse all the great attractions\, or stock up with your favorite local NY maple products.
URL:https://rossersridge.com/event/wny-home-outdoor-living-show-2
LOCATION:Hamburg Fairgrounds\, 5600 McKinley Pkwy\, Hamburg\, NY\, 14075\, United States
ATTACH;FMTTYPE=image/png:https://rossersridge.com/wp-content/uploads/2025/02/WNY-HOL-Logo-Sticker.png
END:VEVENT
BEGIN:VEVENT
DTSTART;TZID=America/New_York:20250222T100000
DTEND;TZID=America/New_York:20250222T200000
DTSTAMP:20260425T130529
CREATED:20250214T203235Z
LAST-MODIFIED:20250214T203358Z
UID:2672-1740218400-1740254400@rossersridge.com
SUMMARY:WNY Home & Outdoor Living Show
DESCRIPTION:The WNY Home & Outdoor Living Show will bring you 4 days full of home improvement inspiration and time to talk to the professionals! Whether you’re ready to get your hands dirty with a DIY project\, or looking to hire a professional to handle the job while you sit back and relax\, the WNY Home Show is your one-stop shop! While your there\, stop by the Rosser’s Ridge Maple booth to try some free samples\, grab a snack while you browse all the great attractions\, or stock up with your favorite local NY maple products.
URL:https://rossersridge.com/event/wny-home-outdoor-living-show-3
LOCATION:Hamburg Fairgrounds\, 5600 McKinley Pkwy\, Hamburg\, NY\, 14075\, United States
ATTACH;FMTTYPE=image/png:https://rossersridge.com/wp-content/uploads/2025/02/WNY-HOL-Logo-Sticker.png
END:VEVENT
BEGIN:VEVENT
DTSTART;TZID=America/New_York:20250223T110000
DTEND;TZID=America/New_York:20250223T160000
DTSTAMP:20260425T130529
CREATED:20250214T210108Z
LAST-MODIFIED:20250214T210108Z
UID:2710-1740308400-1740326400@rossersridge.com
SUMMARY:WNY Home & Outdoor Living Show
DESCRIPTION:The WNY Home & Outdoor Living Show will bring you 4 days full of home improvement inspiration and time to talk to the professionals! Whether you’re ready to get your hands dirty with a DIY project\, or looking to hire a professional to handle the job while you sit back and relax\, the WNY Home Show is your one-stop shop! While your there\, stop by the Rosser’s Ridge Maple booth to try some free samples\, grab a snack while you browse all the great attractions\, or stock up with your favorite local NY maple products.
URL:https://rossersridge.com/event/wny-home-outdoor-living-show-4
LOCATION:Hamburg Fairgrounds\, 5600 McKinley Pkwy\, Hamburg\, NY\, 14075\, United States
ATTACH;FMTTYPE=image/png:https://rossersridge.com/wp-content/uploads/2025/02/WNY-HOL-Logo-Sticker.png
END:VEVENT
BEGIN:VEVENT
DTSTART;TZID=America/New_York:20250225T090000
DTEND;TZID=America/New_York:20250225T170000
DTSTAMP:20260425T130529
CREATED:20250214T205237Z
LAST-MODIFIED:20250214T211112Z
UID:2700-1740474000-1740502800@rossersridge.com
SUMMARY:Upstate New York Gift Expo
DESCRIPTION:The Upstate New York Gift Expo is a wholesale gift show newly located in the heart of New York State at the brand new Utica University Nexus Center ​located in Utica\, NY. This event offers a unique\, enjoyable\, and convenient shopping and selling experience. \nFor three days each February\, the Upstate New York Gift Expo welcomes buyers from top regional retailers including gift shops\, specialty stores\, craft stores\, boutiques\, stationery stores\, museum shops\, hardware stores\, and pharmacies. \nIn response to exhibitor and buyer requests\, we are now offering exhibitors the option to sell their products via cash and carry. Exhibitors who choose to participate will be grouped in a convenient cash and carry section of the show floor. \nThe Upstate New York Gift Expo is proud to offer a diverse group of the best exhibitors representing the following markets: gifts\, souvenirs\, resort merchandise\, jewelry\, decorative items\, furniture\, personal accessories\, handmade items\, regional books\, and more. \nStop by Rosser’s Ridge booth to try any of our free samples and check our new products we’re adding to our lineup this year! Register for a chance to win a $100 Rosser’s Ridge Maple & More gift certificate!
URL:https://rossersridge.com/event/upstate-new-york-gift-expo-2
LOCATION:UTICA UNIVERSITY NEXUS CENTER\, 300 Oriskany Street West\, Utica\, NY\, 13502
ATTACH;FMTTYPE=image/jpeg:https://rossersridge.com/wp-content/uploads/2025/02/IMG_20250123_183200458_HDR_AE-scaled.jpg
END:VEVENT
BEGIN:VEVENT
DTSTART;TZID=America/New_York:20250226T080000
DTEND;TZID=America/New_York:20250226T170000
DTSTAMP:20260425T130529
CREATED:20250214T210357Z
LAST-MODIFIED:20250214T211137Z
UID:2713-1740556800-1740589200@rossersridge.com
SUMMARY:Upstate New York Gift Expo
DESCRIPTION:The Upstate New York Gift Expo is a wholesale gift show newly located in the heart of New York State at the brand new Utica University Nexus Center ​located in Utica\, NY. This event offers a unique\, enjoyable\, and convenient shopping and selling experience. \nFor three days each February\, the Upstate New York Gift Expo welcomes buyers from top regional retailers including gift shops\, specialty stores\, craft stores\, boutiques\, stationery stores\, museum shops\, hardware stores\, and pharmacies. \nIn response to exhibitor and buyer requests\, we are now offering exhibitors the option to sell their products via cash and carry. Exhibitors who choose to participate will be grouped in a convenient cash and carry section of the show floor. \nThe Upstate New York Gift Expo is proud to offer a diverse group of the best exhibitors representing the following markets: gifts\, souvenirs\, resort merchandise\, jewelry\, decorative items\, furniture\, personal accessories\, handmade items\, regional books\, and more. \nStop by Rosser’s Ridge booth to try any of our free samples and check our new products we’re adding to our lineup this year! Register for a chance to win a $100 Rosser’s Ridge Maple & More gift certificate!
URL:https://rossersridge.com/event/upstate-new-york-gift-expo-3
LOCATION:UTICA UNIVERSITY NEXUS CENTER\, 300 Oriskany Street West\, Utica\, NY\, 13502
ATTACH;FMTTYPE=image/jpeg:https://rossersridge.com/wp-content/uploads/2025/02/IMG_20250123_183200458_HDR_AE-scaled.jpg
END:VEVENT
BEGIN:VEVENT
DTSTART;TZID=America/New_York:20250227T090000
DTEND;TZID=America/New_York:20250227T150000
DTSTAMP:20260425T130529
CREATED:20250214T210653Z
LAST-MODIFIED:20250214T211202Z
UID:2719-1740646800-1740668400@rossersridge.com
SUMMARY:Upstate New York Gift Expo
DESCRIPTION:The Upstate New York Gift Expo is a wholesale gift show newly located in the heart of New York State at the brand new Utica University Nexus Center ​located in Utica\, NY. This event offers a unique\, enjoyable\, and convenient shopping and selling experience. \nFor three days each February\, the Upstate New York Gift Expo welcomes buyers from top regional retailers including gift shops\, specialty stores\, craft stores\, boutiques\, stationery stores\, museum shops\, hardware stores\, and pharmacies. \nIn response to exhibitor and buyer requests\, we are now offering exhibitors the option to sell their products via cash and carry. Exhibitors who choose to participate will be grouped in a convenient cash and carry section of the show floor. \nThe Upstate New York Gift Expo is proud to offer a diverse group of the best exhibitors representing the following markets: gifts\, souvenirs\, resort merchandise\, jewelry\, decorative items\, furniture\, personal accessories\, handmade items\, regional books\, and more. \nStop by Rosser’s Ridge booth to try any of our free samples and check our new products we’re adding to our lineup this year! Register for a chance to win a $100 Rosser’s Ridge Maple & More gift certificate!
URL:https://rossersridge.com/event/upstate-new-york-gift-expo-4
LOCATION:UTICA UNIVERSITY NEXUS CENTER\, 300 Oriskany Street West\, Utica\, NY\, 13502
ATTACH;FMTTYPE=image/jpeg:https://rossersridge.com/wp-content/uploads/2025/02/IMG_20250123_183200458_HDR_AE-scaled.jpg
END:VEVENT
END:VCALENDAR